0.34999999999996984
0.00000000000000000
0.00000000000000000
-0.34999999999997145
360576.12959887000000000
3269143.27352020980000000
