0.34999999999997178
0.00000000000000000
0.00000000000000000
-0.34999999999997139
359572.25003077002000000
3268635.25274405020000000
