0.34999999999998382
0.00000000000000000
0.00000000000000000
-0.34999999999998566
358513.77034617000000000
3268282.31018825990000000
