0.34999999999998999
0.00000000000000000
0.00000000000000000
-0.34999999999998571
357474.73013803002000000
3267841.43306078990000000
