0.34999999999999998
0.00000000000000000
0.00000000000000000
-0.34999999999999998
356439.96240353002000000
3267375.80916533010000000
