0.34999999999999998
0.00000000000000000
0.00000000000000000
-0.34999999999999998
355409.44557177997000000
3266936.87275775990000000
