0.34999999999998399
0.00000000000000000
0.00000000000000000
-0.34999999999998571
354365.56497315998000000
3266520.38697047020000000
