0.34999999999997083
0.00000000000000000
0.00000000000000000
-0.34999999999997211
326963.52098663000000000
3250447.97670926990000000
