0.34999999999999998
0.00000000000000000
0.00000000000000000
-0.35000000000001397
327810.42361490999000000
3251164.39992154020000000
