0.34999999999999998
0.00000000000000000
0.00000000000000000
-0.34999999999999998
329090.96540634998000000
3245640.07241046010000000
