0.34999999999999998
0.00000000000000000
0.00000000000000000
-0.35000000000002779
328152.15140037000000000
3245027.97947383020000000
