0.34999999999999637
0.00000000000000000
0.00000000000000000
-0.35000000000002779
327214.08241974999000000
3244416.08877527020000000
