0.34999999999997633
0.00000000000000000
0.00000000000000000
-0.34999999999997217
326336.84825829999000000
3243721.13263963020000000
