0.34999999999998532
0.00000000000000000
0.00000000000000000
-0.34999999999998610
325438.70672433998000000
3243047.07152900010000000
