0.34999999999998355
0.00000000000000000
0.00000000000000000
-0.34999999999998610
324438.44538634998000000
3242507.41633210980000000
