0.35000000000000181
0.00000000000000000
0.00000000000000000
-0.35000000000001391
323558.52861519001000000
3241799.67033931010000000
