0.34999999999996873
0.00000000000000000
0.00000000000000000
-0.34999999999997217
322661.81505429000000000
3241142.24679799980000000
