0.35000000000000370
0.00000000000000000
0.00000000000000000
-0.34999999999999998
321665.54717387003000000
3240601.27017481020000000
