0.34999999999997072
0.00000000000000000
0.00000000000000000
-0.34999999999997222
320739.55577397998000000
3239957.23303361000000000
