0.34999999999998715
0.00000000000000000
0.00000000000000000
-0.34999999999998610
319878.17430269998000000
3239239.68190996020000000
