0.35000000000000370
0.00000000000000000
0.00000000000000000
-0.35000000000002779
318896.78387246002000000
3238696.23362088020000000
