0.34999999999996861
0.00000000000000000
0.00000000000000000
-0.34999999999997222
316089.35473098001000000
3236821.62454896980000000
