0.35000000000000181
0.00000000000000000
0.00000000000000000
-0.35000000000001391
315210.04634256999000000
3236123.41479578010000000
