0.34999999999998538
0.00000000000000000
0.00000000000000000
-0.34999999999998610
314339.25548160000000000
3235403.41416453010000000
