0.35000000000000187
0.00000000000000000
0.00000000000000000
-0.35000000000002784
313348.09319556999000000
3234859.85875727000000000
