0.34999999999999815
0.00000000000000000
0.00000000000000000
-0.34999999999999998
312356.70197657001000000
3234307.83066279020000000
