0.34999999999999998
0.00000000000000000
0.00000000000000000
-0.35000000000001391
311490.85612180998000000
3233581.89709674010000000
