0.34999999999999998
0.00000000000000000
0.00000000000000000
-0.35000000000001391
310586.58027591999000000
3232910.74250659020000000
