0.34999999999999631
0.00000000000000000
0.00000000000000000
-0.35000000000002768
309511.44194597000000000
3232497.13208515010000000
