0.35000000000000181
0.00000000000000000
0.00000000000000000
-0.34999999999999998
308690.09280372999000000
3231722.10713749010000000
