0.34999999999999998
0.00000000000000000
0.00000000000000000
-0.35000000000001391
307811.38709351001000000
3231020.10067059010000000
