0.34999999999999631
0.00000000000000000
0.00000000000000000
-0.35000000000002784
306870.71235431999000000
3230395.22073687010000000
