0.34999999999996867
0.00000000000000000
0.00000000000000000
-0.34999999999997217
305887.75954658998000000
3229835.49985188010000000
