0.34999999999998715
0.00000000000000000
0.00000000000000000
-0.34999999999998610
304991.18165037001000000
3229168.59743958990000000
