0.34999999999999276
0.00000000000000000
0.00000000000000000
-0.34999999999995735
789985.91913348995000000
3238315.19942713020000000
