0.34999999999999998
0.00000000000000000
0.00000000000000000
-0.35000000000001424
789214.32182830002000000
3237475.90738556020000000
