0.35000000000000364
0.00000000000000000
0.00000000000000000
-0.35000000000001424
788327.19783715997000000
3236803.30170771010000000
