0.34999999999998904
0.00000000000000000
0.00000000000000000
-0.34999999999998577
787398.42806869000000000
3236172.05522817980000000
