0.34999999999998177
0.00000000000000000
0.00000000000000000
-0.34999999999998577
786475.44108847005000000
3235523.33939862020000000
