0.34999999999998910
0.00000000000000000
0.00000000000000000
-0.34999999999998577
785601.19648165000000000
3234821.48561368000000000
