0.35000000000000725
0.00000000000000000
0.00000000000000000
-0.35000000000001424
785341.87017568003000000
3236555.41943057020000000
