0.34999999999999271
0.00000000000000000
0.00000000000000000
-0.34999999999995735
784474.77202464000000000
3235851.51747862990000000
