0.34999999999999631
0.00000000000000000
0.00000000000000000
-0.35000000000001424
783648.62317834003000000
3235110.20138897980000000
