0.34999999999999259
0.00000000000000000
0.00000000000000000
-0.34999999999998577
782718.26574751001000000
3234469.43533700010000000
