0.34999999999997783
0.00000000000000000
0.00000000000000000
-0.34999999999998577
781719.70012530999000000
3233925.47547185980000000
