0.34999999999999998
0.00000000000000000
0.00000000000000000
-0.35000000000001424
780817.20204696001000000
3233269.35273564980000000
