0.34999999999997805
0.00000000000000000
0.00000000000000000
-0.34999999999998577
779936.23212911002000000
3232590.77537818020000000
