0.34999999999997805
0.00000000000000000
0.00000000000000000
-0.34999999999997156
779058.46233103995000000
3231890.49947154990000000
