0.34999999999999631
0.00000000000000000
0.00000000000000000
-0.34999999999999998
778748.43048503995000000
3230139.85429158990000000
