0.34999999999996684
0.00000000000000000
0.00000000000000000
-0.34999999999997156
779631.59471326997000000
3230827.48663506980000000
